BEGIN:VCALENDAR
VERSION:2.0
PRODID:spatie/icalendar-generator
DESCRIPTION:Händelser från Levla AB
X-WR-CALDESC:Händelser från Levla AB
REFRESH-INTERVAL;VALUE=DURATION:PT1440M
X-PUBLISHED-TTL:PT1440M
BEGIN:VTIMEZONE
TZID:Europe/Stockholm
BEGIN:STANDARD
DTSTART:20251026T030000Z
TZOFFSETFROM:+0200
TZOFFSETTO:+0100
END:STANDARD
BEGIN:DAYLIGHT
DTSTART:20260329T020000Z
TZOFFSETFROM:+0100
TZOFFSETTO:+0200
END:DAYLIGHT
BEGIN:STANDARD
DTSTART:20261025T030000Z
TZOFFSETFROM:+0200
TZOFFSETTO:+0100
END:STANDARD
END:VTIMEZONE
BEGIN:VTIMEZONE
TZID:UTC
BEGIN:STANDARD
DTSTART:20250729T161035Z
TZOFFSETFROM:+0000
TZOFFSETTO:+0000
END:STANDARD
END:VTIMEZONE
BEGIN:VEVENT
UID:47-11
DTSTAMP:20260425T161035Z
SUMMARY:Certified ScrumMaster (English)
LOCATION:Remote training via Zoom
ORGANIZER;CN=admin:MAILTO:mikael@lundgren.com
DTSTART;TZID=Europe/Stockholm;VALUE=DATE:20260611
DTEND;TZID=Europe/Stockholm;VALUE=DATE:20260613
X-ALT-DESC;FMTTYPE=TEXT/HTML:A two-day online training for agile team leade
 rs that will bring you up to speed with modern leadership tools and techni
 ques for teams and organizations with agile ways of working. This training
  is designed to meet the needs for everyone working as a ScrumMaster or ag
 ile coach\, whether you are new to the job or&amp;hellip\;
CATEGORIES:General
URL;VALUE=URI:https://levla.se/mc-events/certified-scrummaster-english/
METHOD:PUBLISH
END:VEVENT
END:VCALENDAR